BEGIN:VCALENDAR
VERSION:2.0
PRODID:-//ChamberMaster//Event Calendar 2.0//EN
METHOD:PUBLISH
X-PUBLISHED-TTL:P3D
REFRESH-INTERVAL:P3D
CALSCALE:GREGORIAN
BEGIN:VEVENT
DTSTART:20140620T180000Z
DTEND:20140706T180000Z
X-MICROSOFT-CDO-ALLDAYEVENT:FALSE
SUMMARY:20th Annual Parade of Homes
DESCRIPTION:
X-ALT-DESC;FMTTYPE=text/html:
LOCATION:5728 S. 1475 E. Suite 100 South Ogden\, UT 84403
UID:e.9355.190
SEQUENCE:3
DTSTAMP:20260419T204007Z
URL:http://nwhbaut.memberzone.com/events/details/20th-annual-parade-of-homes-06-20-2014-190
END:VEVENT

END:VCALENDAR
