BEGIN:VCALENDAR
VERSION:2.0
PRODID:-//ChamberMaster//Event Calendar 2.0//EN
METHOD:PUBLISH
X-PUBLISHED-TTL:P3D
REFRESH-INTERVAL:P3D
CALSCALE:GREGORIAN
BEGIN:VEVENT
DTSTART:20140923T180000Z
DTEND:20140924T000000Z
X-MICROSOFT-CDO-ALLDAYEVENT:FALSE
SUMMARY:Builder Luncheon - A Discussion on Water
DESCRIPTION:
X-ALT-DESC;FMTTYPE=text/html:
LOCATION:2501 E Gentile St Layton\, UT 84040
UID:e.9355.195
SEQUENCE:3
DTSTAMP:20260419T151421Z
URL:http://nwhbaut.memberzone.com/events/details/builder-luncheon-a-discussion-on-water-09-23-2014-195
END:VEVENT

END:VCALENDAR
