BEGIN:VCALENDAR
VERSION:2.0
PRODID:-//ChamberMaster//Event Calendar 2.0//EN
METHOD:PUBLISH
X-PUBLISHED-TTL:P3D
REFRESH-INTERVAL:P3D
CALSCALE:GREGORIAN
BEGIN:VEVENT
DTSTART;VALUE=DATE:20130516
DTEND;VALUE=DATE:20130517
TRANSP:TRANSPARENT
X-MICROSOFT-CDO-ALLDAYEVENT:TRUE
SUMMARY:Continuing Education Course
DESCRIPTION:*** Please call 801.479.5230 to register\n \n Continuing Education Course\n "Building Code Seminar"\n Wednesday\, May 16\, 2013\n 9:00 A.M. - 12:00 P.M.\n Northern Wasatch Home Builders Association\; 5728 S 1475 E\, South Ogden\n \n Class will cover significant changes to the 2012 International Residential Code (IRC) which includes new structural\, mechanical\, plumbing\, electrical\, and energy conservation requirements. The class will also provide an analysis of the code changes in comparison with the newly adopted State code amendments \n \n    $20 for NWHBA Members\n    $30 for Non-Members\n    To reserve your seat\n    call the NWHBA office at (801) 479-5230\n    or e-mail Olivia@nwhba.net
X-ALT-DESC;FMTTYPE=text/html:<span style="font-size: 11pt\;"><span style="font-size: 11pt\;"><span lang="EN" style="color: #222222\; font-family: &quot\;Arial&quot\;\, &quot\;sans-serif&quot\;\; mso-ansi-language: EN\;"><font size="3"><span lang="EN" style="color: #222222\; font-family: &quot\;Arial&quot\;\, &quot\;sans-serif&quot\;\; mso-ansi-language: EN\;"><font size="3">*** Please call 801.479.5230 to register<br> <br> <span style="font-family: &quot\;Times New Roman&quot\;\, &quot\;serif&quot\;\; font-size: 12pt\; mso-fareast-font-family: &quot\;Times New Roman&quot\;\;">Continuing Education Course<br> &quot\;Building Code Seminar&quot\;<br> Wednesday\,&nbsp\;May 1<font size="3">6</font>\, 2013<br> 9:00 A<font size="3">.M</font>. - 12<font size="3">:00 P.M.</font><br> Northern Wasatch Home Builders Association\; 5728 S 1475 E\, South Ogden</span></font></span></font></span></span></span><br> <br> <font size="3">Class will cover significant changes to the 2012 </font><i><font face="Calibri\,Calibri" size="3"><font face="Calibri\,Calibri" size="3">International Residential Code </font></font></i><font size="3">(</font><i><font face="Calibri\,Calibri" size="3"><font face="Calibri\,Calibri" size="3">IRC</font></font></i><font size="3">) which includes new structural\, mechanical\, plumbing\, electrical\, and energy conservation requirements. The class will also provide an analysis of the code changes in comparison with the newly adopted State code amendments </font><br> <p align="justify" class="MsoNormal" style="margin: 0in 0in 10pt\;"><br>    <span style="font-size: 11pt\;"><span style="font-size: 11pt\;"><span lang="EN" style="color: #222222\; font-family: &quot\;Arial&quot\;\, &quot\;sans-serif&quot\;\; mso-ansi-language: EN\;"><font size="3"><span lang="EN" style="color: #222222\; font-family: &quot\;Arial&quot\;\, &quot\;sans-serif&quot\;\; mso-ansi-language: EN\;"><font size="3"><span style="font-family: &quot\;Times New Roman&quot\;\, &quot\;serif&quot\;\; font-size: 12pt\; mso-fareast-font-family: &quot\;Times New Roman&quot\;\;">$20 for NWHBA Members<br>    $30 for Non-Members<br>    To reserve your seat<br>    call the NWHBA office at (801) 479-5230<br>    or e-mail <a href="mailto:Olivia@nwhba.net">Olivia@nwhba.net</a></span></font></span></font></span></span></span><br>    <br>    &nbsp\;</p> <div align="center" style="margin: 0in 0in 0pt\; text-align: center\; line-height: normal\;"><br>    &nbsp\;</div>
LOCATION:5728 S. 1475 E. Suite 100 South Ogden\, UT 84403
UID:e.9355.152
SEQUENCE:3
DTSTAMP:20260421T030313Z
URL:http://nwhbaut.memberzone.com/events/details/continuing-education-course-05-16-2013-152
END:VEVENT

END:VCALENDAR
