BEGIN:VCALENDAR
VERSION:2.0
PRODID:-//ChamberMaster//Event Calendar 2.0//EN
METHOD:PUBLISH
X-PUBLISHED-TTL:P3D
REFRESH-INTERVAL:P3D
CALSCALE:GREGORIAN
BEGIN:VEVENT
DTSTART;VALUE=DATE:20140612
DTEND;VALUE=DATE:20140613
TRANSP:TRANSPARENT
X-MICROSOFT-CDO-ALLDAYEVENT:TRUE
SUMMARY:Continuing Educaton Course - CANCELLED
DESCRIPTION:
X-ALT-DESC;FMTTYPE=text/html:
LOCATION:5728 S. 1475 E. Suite 100 South Ogden\, UT 84403
UID:e.9355.188
SEQUENCE:3
DTSTAMP:20260419T222450Z
URL:http://nwhbaut.memberzone.com/events/details/continuing-educaton-course-cancelled-06-12-2014-188
END:VEVENT

END:VCALENDAR
