BEGIN:VCALENDAR
VERSION:2.0
PRODID:-//ChamberMaster//Event Calendar 2.0//EN
METHOD:PUBLISH
X-PUBLISHED-TTL:P3D
REFRESH-INTERVAL:P3D
CALSCALE:GREGORIAN
BEGIN:VEVENT
DTSTART:20141003T000000Z
DTEND:20141003T030000Z
X-MICROSOFT-CDO-ALLDAYEVENT:FALSE
SUMMARY:Economic Forecast
DESCRIPTION:
X-ALT-DESC;FMTTYPE=text/html:
LOCATION:155 Central Campus D Salt Lake City\, UT 84112
UID:e.9355.196
SEQUENCE:3
DTSTAMP:20260419T115711Z
URL:http://nwhbaut.memberzone.com/events/details/economic-forecast-10-02-2014-196
END:VEVENT

END:VCALENDAR
