BEGIN:VCALENDAR
VERSION:2.0
PRODID:-//ChamberMaster//Event Calendar 2.0//EN
METHOD:PUBLISH
X-PUBLISHED-TTL:P3D
REFRESH-INTERVAL:P3D
CALSCALE:GREGORIAN
BEGIN:VEVENT
DTSTART;VALUE=DATE:20140808
DTEND;VALUE=DATE:20140809
TRANSP:TRANSPARENT
X-MICROSOFT-CDO-ALLDAYEVENT:TRUE
SUMMARY:Family Day - Ogden Raptors - CANCELLED
DESCRIPTION:
X-ALT-DESC;FMTTYPE=text/html:
LOCATION:2330 Lincoln Aveune Ogden\, UT 84401
UID:e.9355.192
SEQUENCE:3
DTSTAMP:20260419T184413Z
URL:http://nwhbaut.memberzone.com/events/details/family-day-ogden-raptors-cancelled-08-08-2014-192
END:VEVENT

END:VCALENDAR
