BEGIN:VCALENDAR
VERSION:2.0
PRODID:-//ChamberMaster//Event Calendar 2.0//EN
METHOD:PUBLISH
X-PUBLISHED-TTL:P3D
REFRESH-INTERVAL:P3D
CALSCALE:GREGORIAN
BEGIN:VEVENT
DTSTART;VALUE=DATE:20131113
DTEND;VALUE=DATE:20131114
TRANSP:TRANSPARENT
X-MICROSOFT-CDO-ALLDAYEVENT:TRUE
SUMMARY:Membership Committee Meeting
DESCRIPTION:
X-ALT-DESC;FMTTYPE=text/html:
LOCATION:5728 S. 1475 E. Suite 100 South Ogden\, UT 84403
UID:e.9355.174
SEQUENCE:3
DTSTAMP:20260420T172247Z
URL:http://nwhbaut.memberzone.com/events/details/membership-committee-meeting-11-13-2013-174
END:VEVENT

END:VCALENDAR
