BEGIN:VCALENDAR
VERSION:2.0
PRODID:-//ChamberMaster//Event Calendar 2.0//EN
METHOD:PUBLISH
X-PUBLISHED-TTL:P3D
REFRESH-INTERVAL:P3D
CALSCALE:GREGORIAN
BEGIN:VEVENT
DTSTART;VALUE=DATE:20131022
DTEND;VALUE=DATE:20131023
TRANSP:TRANSPARENT
X-MICROSOFT-CDO-ALLDAYEVENT:TRUE
SUMMARY:October Builder Luncheon - North Davis Corridor
DESCRIPTION:
X-ALT-DESC;FMTTYPE=text/html:<br> <div align="center" style="margin: 0in 0in 0pt\; text-align: center\; line-height: normal\;"><br>    &nbsp\;</div>
LOCATION:930 W Antelope Dr Layton\, UT 84041
UID:e.9355.170
SEQUENCE:3
DTSTAMP:20260420T160712Z
URL:http://nwhbaut.memberzone.com/events/details/october-builder-luncheon-north-davis-corridor-10-22-2013-170
END:VEVENT

END:VCALENDAR
